BEGIN:VCALENDAR
VERSION:2.0
PRODID:-//Kanuclub Meggen - ECPv6.0.11//NONSGML v1.0//EN
CALSCALE:GREGORIAN
METHOD:PUBLISH
X-WR-CALNAME:Kanuclub Meggen
X-ORIGINAL-URL:https://kanuclub-meggen.ch
X-WR-CALDESC:Veranstaltungen für Kanuclub Meggen
REFRESH-INTERVAL;VALUE=DURATION:PT1H
X-Robots-Tag:noindex
X-PUBLISHED-TTL:PT1H
BEGIN:VTIMEZONE
TZID:UTC
BEGIN:STANDARD
TZOFFSETFROM:+0000
TZOFFSETTO:+0000
TZNAME:UTC
DTSTART:20260101T000000
END:STANDARD
END:VTIMEZONE
BEGIN:VEVENT
DTSTART;TZID=UTC:20260531T100000
DTEND;TZID=UTC:20260531T150000
DTSTAMP:20260421T085620
CREATED:20251112T141242Z
LAST-MODIFIED:20251112T142159Z
UID:2449-1780221600-1780239600@kanuclub-meggen.ch
SUMMARY:Frühlingspaddeln
DESCRIPTION:🛶 Frühlingspaddeln\, Sonntag\, 31. Mai 2026 \nAusführliche Infos folgen zu einem späteren Zeitpunkt. \nKontakt: Marco
URL:https://kanuclub-meggen.ch/events/fruehlingspaddeln-2/
ATTACH;FMTTYPE=image/jpeg:https://kanuclub-meggen.ch/wp-content/uploads/2016/05/IMG_6026.jpg
END:VEVENT
BEGIN:VEVENT
DTSTART;TZID=UTC:20260814T090000
DTEND;TZID=UTC:20260816T170000
DTSTAMP:20260421T085620
CREATED:20251112T140427Z
LAST-MODIFIED:20251112T142320Z
UID:2452-1786698000-1786899600@kanuclub-meggen.ch
SUMMARY:Paddelweekend Brunnen
DESCRIPTION:Vom 14. August bis 16. August 2026 planen wir das  🛶 Paddelweekend in Brunnen auf dem Campingplatz Hopfräben. \n\n\nÜbernachtungsmöglichkeiten\nAuf der Zeltwiese\, Zeltplatz Hopfräben. Anmeldung bitte über Fredi\nInfos und Preise: Campingplatz Hopfräben (camping-hopfraeben.ch). Die Bezahlung erfolgt individuell vor Ort.\n\n\n\nEigene Parzellen für Grosszelte\, Wohnwagen\, Wohnmobile bitte selber reservieren www.booking.camping-hopfraeben.ch\n\nWer lieber in ein Hotel geht\, findet in Brunnen zahlreiche Möglichkeiten: z.B. Booking.com: Hotels in Brunnen\n\nAnreise\nNach Brunnen paddeln\, individuelle Fahrgemeinschaften oder öffentliche Verkehrsmittel. Alle Teilnehmenden erhalten nach dem Anmeldeschluss eine Anmeldeliste zur Kontaktaufnahme\, um sich zusammenzutun.\nEs ist zudem problemlos möglich\, individuell früher oder später anzureisen\, nur einen Tag nach Brunnen zu kommen und/oder länger zu bleiben.\nWeitere Infos folgen zu einem späteren Zeitpunkt. \nKontakt: Fredi
URL:https://kanuclub-meggen.ch/events/paddelweekend-brunnen-2/
ATTACH;FMTTYPE=image/png:https://kanuclub-meggen.ch/wp-content/uploads/2025/05/Camping_Platz_Brunnen.png
END:VEVENT
BEGIN:VEVENT
DTSTART;VALUE=DATE:20260920
DTEND;VALUE=DATE:20260921
DTSTAMP:20260421T085620
CREATED:20251216T131159Z
LAST-MODIFIED:20251228T085636Z
UID:2488-1789862400-1789948799@kanuclub-meggen.ch
SUMMARY:Flusstour auf der Reuss
DESCRIPTION:🛶 Flusstour mit Naturerlebnis\, Sonntag\, 20. September 2026 \nVon Perlen bis zum Flachsee bei Zufikon 🛶 paddeln wir auf der Reuss ca. 3 1/2 Stunden. Das Naturschutzgebiet ist in aller Regel im September zur rücksichtsvollen Befahrung offen. \nDiese Tour ist mit jedem Bootstyp gut zu bewältigen. Sehr sportliche Clubmitglieder können selbstverständlich mit dem Kanu oder Kajak bis nach Perlen paddeln und dann zur Gruppe stossen. \nWeitere Infos folgen kurz vor der Veranstaltung. \nKontakt: Fredi
URL:https://kanuclub-meggen.ch/events/reuss-flusstour/
ATTACH;FMTTYPE=image/png:https://kanuclub-meggen.ch/wp-content/uploads/2025/12/Flachsee.png
END:VEVENT
BEGIN:VEVENT
DTSTART;TZID=UTC:20270318T190000
DTEND;TZID=UTC:20270318T210000
DTSTAMP:20260421T085620
CREATED:20260421T082515Z
LAST-MODIFIED:20260421T083221Z
UID:2520-1805396400-1805403600@kanuclub-meggen.ch
SUMMARY:Generalversammlung Kanuclub 2027
DESCRIPTION:Donnerstag\, 18. März 2027 \nKontakt: Marco
URL:https://kanuclub-meggen.ch/events/generalversammlung-kanuclub-2027/
ATTACH;FMTTYPE=image/jpeg:https://kanuclub-meggen.ch/wp-content/uploads/2024/11/Bild-GV.jpg
END:VEVENT
END:VCALENDAR